BEGIN:VCALENDAR
VERSION:2.0
PRODID:SchoolNow
CALSCALE:GREGORIAN
BEGIN:VEVENT
UID:2d380370-dd8f-11ef-809d-0e956362e35d
DTSTAMP:20250128T154728Z
SUMMARY:Girls Junior Varsity Soccer v. Rome Free Academy
LOCATION:PHS Grass Soccer Field
URL;VALUE=URI:https://www.uticaschools.org/departments/athletics/calendar/7
 386073/girls-junior-varsity-soccer-v-rome-free-academy
DTSTART:20241017T200000Z
DTEND:20241017T215500Z
END:VEVENT
END:VCALENDAR
