BEGIN:VCALENDAR
VERSION:2.0
PRODID:SchoolNow
CALSCALE:GREGORIAN
BEGIN:VEVENT
UID:2e28bb58-dd8f-11ef-a651-0e956362e35d
DTSTAMP:20250128T154729Z
SUMMARY:Girls Varsity Gymnastics v. Jamesville-Dewitt (JD/FM Gymnastics)
LOCATION:Valley Gymnastics
URL;VALUE=URI:https://www.uticaschools.org/departments/athletics/calendar/7
 386310/girls-varsity-gymnastics-v-jamesville-dewitt-jd-fm-gymnastics
DTSTART:20241001T210000Z
DTEND:20241001T220000Z
END:VEVENT
END:VCALENDAR
