BEGIN:VCALENDAR
VERSION:2.0
PRODID:SchoolNow
CALSCALE:GREGORIAN
BEGIN:VEVENT
UID:3029642a-dd8f-11ef-9b8a-0e956362e35d
DTSTAMP:20250128T154732Z
SUMMARY:(G) V Cross Country - Practice (3:00 PM)
LOCATION:PHS AUX Gym (Volleyball gym)
URL;VALUE=URI:https://www.uticaschools.org/departments/athletics/calendar/7
 386744/g-v-cross-country-practice-3-00-pm
DTSTART:20241028T190000Z
DTEND:20241028T210000Z
END:VEVENT
END:VCALENDAR
