BEGIN:VCALENDAR
VERSION:2.0
PRODID:SchoolNow
CALSCALE:GREGORIAN
BEGIN:VEVENT
UID:309ca336-dd8f-11ef-b202-0e956362e35d
DTSTAMP:20250128T154733Z
SUMMARY:Girls Varsity Swimming/Diving @ West Canada Valley
LOCATION:WCV Pool
URL;VALUE=URI:https://www.uticaschools.org/departments/athletics/calendar/7
 386891/girls-varsity-swimming-diving-west-canada-valley
DTSTART:20241008T203000Z
DTEND:20241008T213000Z
END:VEVENT
END:VCALENDAR
