BEGIN:VCALENDAR
VERSION:2.0
PRODID:SchoolNow
CALSCALE:GREGORIAN
BEGIN:VEVENT
UID:311289f2-dd8f-11ef-ab32-0e956362e35d
DTSTAMP:20250128T154734Z
SUMMARY:Girls (JFK) 7th/8th Basketball v. New Hartford (Red)
LOCATION:JFK Gym
URL;VALUE=URI:https://www.uticaschools.org/departments/athletics/calendar/7
 386965/girls-jfk-7th-8th-basketball-v-new-hartford-red
DTSTART:20250114T210000Z
DTEND:20250114T220000Z
END:VEVENT
END:VCALENDAR
