BEGIN:VCALENDAR
VERSION:2.0
PRODID:SchoolNow
CALSCALE:GREGORIAN
BEGIN:VEVENT
UID:31e6bc36-dd8f-11ef-b965-0e956362e35d
DTSTAMP:20250128T154735Z
SUMMARY:Boys Varsity Basketball v. Utica Academy of Science
LOCATION:PHS Main Gym
URL;VALUE=URI:https://www.uticaschools.org/departments/athletics/calendar/7
 387201/boys-varsity-basketball-v-utica-academy-of-science
DTSTART:20250116T000000Z
DTEND:20250116T013000Z
END:VEVENT
END:VCALENDAR
