BEGIN:VCALENDAR
VERSION:2.0
PRODID:SchoolNow
CALSCALE:GREGORIAN
BEGIN:VEVENT
UID:33382480-dd8f-11ef-8e88-0e956362e35d
DTSTAMP:20250128T154738Z
SUMMARY:(G) V Basketball - Practice (12:00 PM)
LOCATION:PHS Main Gym
URL;VALUE=URI:https://www.uticaschools.org/departments/athletics/calendar/7
 387523/g-v-basketball-practice-12-00-pm
DTSTART:20250111T170000Z
DTEND:20250111T190000Z
END:VEVENT
END:VCALENDAR
