BEGIN:VCALENDAR
VERSION:2.0
PRODID:SchoolNow
CALSCALE:GREGORIAN
BEGIN:VEVENT
UID:2479d1e6-1f1a-11f1-9c96-0a58a9feac02
DTSTAMP:20260330T195547Z
SUMMARY:English Language Arts REGENTS EXAM
URL;VALUE=URI:https://www.uticaschools.org/departments/guidance-counseling-
 services/calendar/8915518/english-language-arts-regents-exam
DTSTART:20260609T120000Z
DTEND:20260609T140000Z
END:VEVENT
END:VCALENDAR
